BEGIN:VCALENDAR
VERSION:2.0
PRODID:-//Ville de Guise - ECPv6.15.20//NONSGML v1.0//EN
CALSCALE:GREGORIAN
METHOD:PUBLISH
X-ORIGINAL-URL:https://www.ville-guise.fr
X-WR-CALDESC:Évènements pour Ville de Guise
REFRESH-INTERVAL;VALUE=DURATION:PT1H
X-Robots-Tag:noindex
X-PUBLISHED-TTL:PT1H
BEGIN:VTIMEZONE
TZID:Europe/Paris
BEGIN:DAYLIGHT
TZOFFSETFROM:+0100
TZOFFSETTO:+0200
TZNAME:CEST
DTSTART:20250330T010000
END:DAYLIGHT
BEGIN:STANDARD
TZOFFSETFROM:+0200
TZOFFSETTO:+0100
TZNAME:CET
DTSTART:20251026T010000
END:STANDARD
BEGIN:DAYLIGHT
TZOFFSETFROM:+0100
TZOFFSETTO:+0200
TZNAME:CEST
DTSTART:20260329T010000
END:DAYLIGHT
BEGIN:STANDARD
TZOFFSETFROM:+0200
TZOFFSETTO:+0100
TZNAME:CET
DTSTART:20261025T010000
END:STANDARD
BEGIN:DAYLIGHT
TZOFFSETFROM:+0100
TZOFFSETTO:+0200
TZNAME:CEST
DTSTART:20270328T010000
END:DAYLIGHT
BEGIN:STANDARD
TZOFFSETFROM:+0200
TZOFFSETTO:+0100
TZNAME:CET
DTSTART:20271031T010000
END:STANDARD
END:VTIMEZONE
BEGIN:VEVENT
DTSTART;TZID=Europe/Paris:20260428T100000
DTEND;TZID=Europe/Paris:20260428T160000
DTSTAMP:20260419T162934
CREATED:20260417T072845Z
LAST-MODIFIED:20260417T072845Z
UID:8354-1777370400-1777392000@www.ville-guise.fr
SUMMARY:Centre hospitalier de Guise - Journée d'information sur la vaccination\, mardi 28 avril 2026
DESCRIPTION:
URL:https://www.ville-guise.fr/event/centre-hospitalier-de-guise-journee-dinformation-sur-la-vaccination-mardi-28-avril-2026/
LOCATION:Centre hospitalier de Guise\, 858 Rue des Drs DEVILLERS\, GUISE\, 02120
CATEGORIES:Information
ATTACH;FMTTYPE=image/jpeg:https://www.ville-guise.fr/wp-content/uploads/2026/04/Journee-info-vaccin-28-avril-scaled.jpg
END:VEVENT
END:VCALENDAR