BEGIN:VCALENDAR
VERSION:2.0
PRODID:-//Ville de Guise - ECPv6.15.20//NONSGML v1.0//EN
CALSCALE:GREGORIAN
METHOD:PUBLISH
X-ORIGINAL-URL:https://www.ville-guise.fr
X-WR-CALDESC:Évènements pour Ville de Guise
REFRESH-INTERVAL;VALUE=DURATION:PT1H
X-Robots-Tag:noindex
X-PUBLISHED-TTL:PT1H
BEGIN:VTIMEZONE
TZID:Europe/Paris
BEGIN:DAYLIGHT
TZOFFSETFROM:+0100
TZOFFSETTO:+0200
TZNAME:CEST
DTSTART:20230326T010000
END:DAYLIGHT
BEGIN:STANDARD
TZOFFSETFROM:+0200
TZOFFSETTO:+0100
TZNAME:CET
DTSTART:20231029T010000
END:STANDARD
BEGIN:DAYLIGHT
TZOFFSETFROM:+0100
TZOFFSETTO:+0200
TZNAME:CEST
DTSTART:20240331T010000
END:DAYLIGHT
BEGIN:STANDARD
TZOFFSETFROM:+0200
TZOFFSETTO:+0100
TZNAME:CET
DTSTART:20241027T010000
END:STANDARD
BEGIN:DAYLIGHT
TZOFFSETFROM:+0100
TZOFFSETTO:+0200
TZNAME:CEST
DTSTART:20250330T010000
END:DAYLIGHT
BEGIN:STANDARD
TZOFFSETFROM:+0200
TZOFFSETTO:+0100
TZNAME:CET
DTSTART:20251026T010000
END:STANDARD
END:VTIMEZONE
BEGIN:VEVENT
DTSTART;TZID=Europe/Paris:20241102T100000
DTEND;TZID=Europe/Paris:20241103T180000
DTSTAMP:20260420T205102
CREATED:20241014T075150Z
LAST-MODIFIED:20241024T121618Z
UID:6980-1730541600-1730656800@www.ville-guise.fr
SUMMARY:23ème salon de la Gastronomie et de l'Artisanat - 02 & 03 novembre 2024
DESCRIPTION:
URL:https://www.ville-guise.fr/event/23eme-salon-de-la-gastronomie-et-de-lartisanat-2-3-novembre-2024/
LOCATION:Gymnase Lesur\, Gymnase Lesur\, GUISE\, 02120
CATEGORIES:Salon
ATTACH;FMTTYPE=image/jpeg:https://www.ville-guise.fr/wp-content/uploads/2024/10/Salon-de-la-Gastronomie-2-3-nov-2024-scaled.jpg
END:VEVENT
END:VCALENDAR